BEGIN:VCALENDAR
VERSION:2.0
PRODID:-//Nature Health West - ECPv6.15.18//NONSGML v1.0//EN
CALSCALE:GREGORIAN
METHOD:PUBLISH
X-WR-CALNAME:Nature Health West
X-ORIGINAL-URL:https://www.naturehealthwest.org.uk
X-WR-CALDESC:Events for Nature Health West
REFRESH-INTERVAL;VALUE=DURATION:PT1H
X-Robots-Tag:noindex
X-PUBLISHED-TTL:PT1H
BEGIN:VTIMEZONE
TZID:Europe/London
BEGIN:DAYLIGHT
TZOFFSETFROM:+0000
TZOFFSETTO:+0100
TZNAME:BST
DTSTART:20250330T010000
END:DAYLIGHT
BEGIN:STANDARD
TZOFFSETFROM:+0100
TZOFFSETTO:+0000
TZNAME:GMT
DTSTART:20251026T010000
END:STANDARD
BEGIN:DAYLIGHT
TZOFFSETFROM:+0000
TZOFFSETTO:+0100
TZNAME:BST
DTSTART:20260329T010000
END:DAYLIGHT
BEGIN:STANDARD
TZOFFSETFROM:+0100
TZOFFSETTO:+0000
TZNAME:GMT
DTSTART:20261025T010000
END:STANDARD
BEGIN:DAYLIGHT
TZOFFSETFROM:+0000
TZOFFSETTO:+0100
TZNAME:BST
DTSTART:20270328T010000
END:DAYLIGHT
BEGIN:STANDARD
TZOFFSETFROM:+0100
TZOFFSETTO:+0000
TZNAME:GMT
DTSTART:20271031T010000
END:STANDARD
END:VTIMEZONE
BEGIN:VEVENT
DTSTART;TZID=Europe/London:20260205T100000
DTEND;TZID=Europe/London:20260416T130000
DTSTAMP:20260419T182017
CREATED:20260304T150454Z
LAST-MODIFIED:20260325T113018Z
UID:10002356-1770285600-1776344400@www.naturehealthwest.org.uk
SUMMARY:Art Inspired by Nature
DESCRIPTION:The art inspired by nature course offers a welcoming\, relaxed\, and supportive environment where students engage in artmaking using a variety of materials and resources\, some of which will be found directly in nature. \nWe will also be studying artists who explore nature in their work and experiment with many creative techniques to learn new art skills. By the end of the course\, students will have gained a deeper understanding of how nature\, art and creativity contribute to well-being\, along with enhanced skills\, confidence\, and greater knowledge of materials\, techniques and processes.
URL:https://www.naturehealthwest.org.uk/community-event/art-inspired-by-nature/2026-02-05/
LOCATION:Horfield Common – The Ardagh\, The Ardagh\, BS6 7YL\, United Kingdom
ATTACH;FMTTYPE=image/jpeg:https://www.naturehealthwest.org.uk/wp-content/uploads/2026/01/BSoA-Art-and-nature-for-Wellbeing-1.jpg
ORGANIZER;CN="SGS College":MAILTO:queensroad@sgscol.ac.uk
END:VEVENT
BEGIN:VEVENT
DTSTART;TZID=Europe/London:20260129T100000
DTEND;TZID=Europe/London:20260409T130000
DTSTAMP:20260419T182017
CREATED:20260304T150454Z
LAST-MODIFIED:20260325T113018Z
UID:10002355-1769680800-1775739600@www.naturehealthwest.org.uk
SUMMARY:Art Inspired by Nature
DESCRIPTION:The art inspired by nature course offers a welcoming\, relaxed\, and supportive environment where students engage in artmaking using a variety of materials and resources\, some of which will be found directly in nature. \nWe will also be studying artists who explore nature in their work and experiment with many creative techniques to learn new art skills. By the end of the course\, students will have gained a deeper understanding of how nature\, art and creativity contribute to well-being\, along with enhanced skills\, confidence\, and greater knowledge of materials\, techniques and processes.
URL:https://www.naturehealthwest.org.uk/community-event/art-inspired-by-nature/2026-01-29/
LOCATION:Horfield Common – The Ardagh\, The Ardagh\, BS6 7YL\, United Kingdom
ATTACH;FMTTYPE=image/jpeg:https://www.naturehealthwest.org.uk/wp-content/uploads/2026/01/BSoA-Art-and-nature-for-Wellbeing-1.jpg
ORGANIZER;CN="SGS College":MAILTO:queensroad@sgscol.ac.uk
END:VEVENT
BEGIN:VEVENT
DTSTART;TZID=Europe/London:20260122T100000
DTEND;TZID=Europe/London:20260402T130000
DTSTAMP:20260419T182017
CREATED:20260304T150454Z
LAST-MODIFIED:20260325T113018Z
UID:10002354-1769076000-1775134800@www.naturehealthwest.org.uk
SUMMARY:Art Inspired by Nature
DESCRIPTION:The art inspired by nature course offers a welcoming\, relaxed\, and supportive environment where students engage in artmaking using a variety of materials and resources\, some of which will be found directly in nature. \nWe will also be studying artists who explore nature in their work and experiment with many creative techniques to learn new art skills. By the end of the course\, students will have gained a deeper understanding of how nature\, art and creativity contribute to well-being\, along with enhanced skills\, confidence\, and greater knowledge of materials\, techniques and processes.
URL:https://www.naturehealthwest.org.uk/community-event/art-inspired-by-nature/2026-01-22/
LOCATION:Horfield Common – The Ardagh\, The Ardagh\, BS6 7YL\, United Kingdom
ATTACH;FMTTYPE=image/jpeg:https://www.naturehealthwest.org.uk/wp-content/uploads/2026/01/BSoA-Art-and-nature-for-Wellbeing-1.jpg
ORGANIZER;CN="SGS College":MAILTO:queensroad@sgscol.ac.uk
END:VEVENT
BEGIN:VEVENT
DTSTART;TZID=Europe/London:20260115T100000
DTEND;TZID=Europe/London:20260326T120000
DTSTAMP:20260419T182017
CREATED:20260304T150454Z
LAST-MODIFIED:20260325T113018Z
UID:10002353-1768471200-1774526400@www.naturehealthwest.org.uk
SUMMARY:Art Inspired by Nature
DESCRIPTION:The art inspired by nature course offers a welcoming\, relaxed\, and supportive environment where students engage in artmaking using a variety of materials and resources\, some of which will be found directly in nature. \nWe will also be studying artists who explore nature in their work and experiment with many creative techniques to learn new art skills. By the end of the course\, students will have gained a deeper understanding of how nature\, art and creativity contribute to well-being\, along with enhanced skills\, confidence\, and greater knowledge of materials\, techniques and processes.
URL:https://www.naturehealthwest.org.uk/community-event/art-inspired-by-nature/2026-01-15/
LOCATION:Horfield Common – The Ardagh\, The Ardagh\, BS6 7YL\, United Kingdom
ATTACH;FMTTYPE=image/jpeg:https://www.naturehealthwest.org.uk/wp-content/uploads/2026/01/BSoA-Art-and-nature-for-Wellbeing-1.jpg
ORGANIZER;CN="SGS College":MAILTO:queensroad@sgscol.ac.uk
END:VEVENT
END:VCALENDAR