BEGIN:VCALENDAR
VERSION:2.0
PRODID:-//Nature Health West - ECPv6.15.18//NONSGML v1.0//EN
CALSCALE:GREGORIAN
METHOD:PUBLISH
X-ORIGINAL-URL:https://www.naturehealthwest.org.uk
X-WR-CALDESC:Events for Nature Health West
REFRESH-INTERVAL;VALUE=DURATION:PT1H
X-Robots-Tag:noindex
X-PUBLISHED-TTL:PT1H
BEGIN:VTIMEZONE
TZID:Europe/London
BEGIN:DAYLIGHT
TZOFFSETFROM:+0000
TZOFFSETTO:+0100
TZNAME:BST
DTSTART:20290325T010000
END:DAYLIGHT
BEGIN:STANDARD
TZOFFSETFROM:+0100
TZOFFSETTO:+0000
TZNAME:GMT
DTSTART:20291028T010000
END:STANDARD
BEGIN:DAYLIGHT
TZOFFSETFROM:+0000
TZOFFSETTO:+0100
TZNAME:BST
DTSTART:20300331T010000
END:DAYLIGHT
BEGIN:STANDARD
TZOFFSETFROM:+0100
TZOFFSETTO:+0000
TZNAME:GMT
DTSTART:20301027T010000
END:STANDARD
BEGIN:DAYLIGHT
TZOFFSETFROM:+0000
TZOFFSETTO:+0100
TZNAME:BST
DTSTART:20310330T010000
END:DAYLIGHT
BEGIN:STANDARD
TZOFFSETFROM:+0100
TZOFFSETTO:+0000
TZNAME:GMT
DTSTART:20311026T010000
END:STANDARD
BEGIN:DAYLIGHT
TZOFFSETFROM:+0000
TZOFFSETTO:+0100
TZNAME:BST
DTSTART:20320328T010000
END:DAYLIGHT
BEGIN:STANDARD
TZOFFSETFROM:+0100
TZOFFSETTO:+0000
TZNAME:GMT
DTSTART:20321031T010000
END:STANDARD
END:VTIMEZONE
BEGIN:VEVENT
DTSTART;TZID=Europe/London:20300907T100000
DTEND;TZID=Europe/London:20300907T113000
DTSTAMP:20260420T233708
CREATED:20260304T145834Z
LAST-MODIFIED:20260304T145834Z
UID:10002375-1915005600-1915011000@www.naturehealthwest.org.uk
SUMMARY:ParkPlay at Merlin Park\, Portishead
DESCRIPTION:ParkPlay is a free play session\, every Saturday\, for everyone. Make friends\, have fun\, get moving! \nLook out for the ParkPlay flag\, we’ll be there – rain or shine.\nIf you can\, please register before you come along: https://park-play.com/register/ (you only need to this once)\nFind out more about ParkPlay here: https://www.betterhealthns.co.uk/information/parkplay/
URL:https://www.naturehealthwest.org.uk/community-event/parkplay-at-merlin-park-portishead/2030-09-07/
LOCATION:Merlin Park\, Merlin Park Playground\, Portishead\, BS20 8RW
ATTACH;FMTTYPE=image/jpeg:https://www.naturehealthwest.org.uk/wp-content/uploads/2025/09/pp-fb-1.jpg
ORGANIZER;CN="ParkPlay":MAILTO:getactive@n-somerset.gov.uk
END:VEVENT
BEGIN:VEVENT
DTSTART;TZID=Europe/London:20300914T100000
DTEND;TZID=Europe/London:20300914T113000
DTSTAMP:20260420T233708
CREATED:20260304T145834Z
LAST-MODIFIED:20260304T145834Z
UID:10002376-1915610400-1915615800@www.naturehealthwest.org.uk
SUMMARY:ParkPlay at Merlin Park\, Portishead
DESCRIPTION:ParkPlay is a free play session\, every Saturday\, for everyone. Make friends\, have fun\, get moving! \nLook out for the ParkPlay flag\, we’ll be there – rain or shine.\nIf you can\, please register before you come along: https://park-play.com/register/ (you only need to this once)\nFind out more about ParkPlay here: https://www.betterhealthns.co.uk/information/parkplay/
URL:https://www.naturehealthwest.org.uk/community-event/parkplay-at-merlin-park-portishead/2030-09-14/
LOCATION:Merlin Park\, Merlin Park Playground\, Portishead\, BS20 8RW
ATTACH;FMTTYPE=image/jpeg:https://www.naturehealthwest.org.uk/wp-content/uploads/2025/09/pp-fb-1.jpg
ORGANIZER;CN="ParkPlay":MAILTO:getactive@n-somerset.gov.uk
END:VEVENT
BEGIN:VEVENT
DTSTART;TZID=Europe/London:20300921T100000
DTEND;TZID=Europe/London:20300921T113000
DTSTAMP:20260420T233708
CREATED:20260304T145834Z
LAST-MODIFIED:20260304T145834Z
UID:10002377-1916215200-1916220600@www.naturehealthwest.org.uk
SUMMARY:ParkPlay at Merlin Park\, Portishead
DESCRIPTION:ParkPlay is a free play session\, every Saturday\, for everyone. Make friends\, have fun\, get moving! \nLook out for the ParkPlay flag\, we’ll be there – rain or shine.\nIf you can\, please register before you come along: https://park-play.com/register/ (you only need to this once)\nFind out more about ParkPlay here: https://www.betterhealthns.co.uk/information/parkplay/
URL:https://www.naturehealthwest.org.uk/community-event/parkplay-at-merlin-park-portishead/2030-09-21/
LOCATION:Merlin Park\, Merlin Park Playground\, Portishead\, BS20 8RW
ATTACH;FMTTYPE=image/jpeg:https://www.naturehealthwest.org.uk/wp-content/uploads/2025/09/pp-fb-1.jpg
ORGANIZER;CN="ParkPlay":MAILTO:getactive@n-somerset.gov.uk
END:VEVENT
BEGIN:VEVENT
DTSTART;TZID=Europe/London:20300928T100000
DTEND;TZID=Europe/London:20300928T113000
DTSTAMP:20260420T233708
CREATED:20260304T145834Z
LAST-MODIFIED:20260304T145834Z
UID:10002378-1916820000-1916825400@www.naturehealthwest.org.uk
SUMMARY:ParkPlay at Merlin Park\, Portishead
DESCRIPTION:ParkPlay is a free play session\, every Saturday\, for everyone. Make friends\, have fun\, get moving! \nLook out for the ParkPlay flag\, we’ll be there – rain or shine.\nIf you can\, please register before you come along: https://park-play.com/register/ (you only need to this once)\nFind out more about ParkPlay here: https://www.betterhealthns.co.uk/information/parkplay/
URL:https://www.naturehealthwest.org.uk/community-event/parkplay-at-merlin-park-portishead/2030-09-28/
LOCATION:Merlin Park\, Merlin Park Playground\, Portishead\, BS20 8RW
ATTACH;FMTTYPE=image/jpeg:https://www.naturehealthwest.org.uk/wp-content/uploads/2025/09/pp-fb-1.jpg
ORGANIZER;CN="ParkPlay":MAILTO:getactive@n-somerset.gov.uk
END:VEVENT
BEGIN:VEVENT
DTSTART;TZID=Europe/London:20301005T100000
DTEND;TZID=Europe/London:20301005T113000
DTSTAMP:20260420T233708
CREATED:20260304T145834Z
LAST-MODIFIED:20260304T145834Z
UID:10002379-1917424800-1917430200@www.naturehealthwest.org.uk
SUMMARY:ParkPlay at Merlin Park\, Portishead
DESCRIPTION:ParkPlay is a free play session\, every Saturday\, for everyone. Make friends\, have fun\, get moving! \nLook out for the ParkPlay flag\, we’ll be there – rain or shine.\nIf you can\, please register before you come along: https://park-play.com/register/ (you only need to this once)\nFind out more about ParkPlay here: https://www.betterhealthns.co.uk/information/parkplay/
URL:https://www.naturehealthwest.org.uk/community-event/parkplay-at-merlin-park-portishead/2030-10-05/
LOCATION:Merlin Park\, Merlin Park Playground\, Portishead\, BS20 8RW
ATTACH;FMTTYPE=image/jpeg:https://www.naturehealthwest.org.uk/wp-content/uploads/2025/09/pp-fb-1.jpg
ORGANIZER;CN="ParkPlay":MAILTO:getactive@n-somerset.gov.uk
END:VEVENT
BEGIN:VEVENT
DTSTART;TZID=Europe/London:20301012T100000
DTEND;TZID=Europe/London:20301012T113000
DTSTAMP:20260420T233708
CREATED:20260304T145834Z
LAST-MODIFIED:20260304T145834Z
UID:10002380-1918029600-1918035000@www.naturehealthwest.org.uk
SUMMARY:ParkPlay at Merlin Park\, Portishead
DESCRIPTION:ParkPlay is a free play session\, every Saturday\, for everyone. Make friends\, have fun\, get moving! \nLook out for the ParkPlay flag\, we’ll be there – rain or shine.\nIf you can\, please register before you come along: https://park-play.com/register/ (you only need to this once)\nFind out more about ParkPlay here: https://www.betterhealthns.co.uk/information/parkplay/
URL:https://www.naturehealthwest.org.uk/community-event/parkplay-at-merlin-park-portishead/2030-10-12/
LOCATION:Merlin Park\, Merlin Park Playground\, Portishead\, BS20 8RW
ATTACH;FMTTYPE=image/jpeg:https://www.naturehealthwest.org.uk/wp-content/uploads/2025/09/pp-fb-1.jpg
ORGANIZER;CN="ParkPlay":MAILTO:getactive@n-somerset.gov.uk
END:VEVENT
BEGIN:VEVENT
DTSTART;TZID=Europe/London:20301019T100000
DTEND;TZID=Europe/London:20301019T113000
DTSTAMP:20260420T233708
CREATED:20260304T145834Z
LAST-MODIFIED:20260304T145834Z
UID:10002381-1918634400-1918639800@www.naturehealthwest.org.uk
SUMMARY:ParkPlay at Merlin Park\, Portishead
DESCRIPTION:ParkPlay is a free play session\, every Saturday\, for everyone. Make friends\, have fun\, get moving! \nLook out for the ParkPlay flag\, we’ll be there – rain or shine.\nIf you can\, please register before you come along: https://park-play.com/register/ (you only need to this once)\nFind out more about ParkPlay here: https://www.betterhealthns.co.uk/information/parkplay/
URL:https://www.naturehealthwest.org.uk/community-event/parkplay-at-merlin-park-portishead/2030-10-19/
LOCATION:Merlin Park\, Merlin Park Playground\, Portishead\, BS20 8RW
ATTACH;FMTTYPE=image/jpeg:https://www.naturehealthwest.org.uk/wp-content/uploads/2025/09/pp-fb-1.jpg
ORGANIZER;CN="ParkPlay":MAILTO:getactive@n-somerset.gov.uk
END:VEVENT
BEGIN:VEVENT
DTSTART;TZID=Europe/London:20301026T100000
DTEND;TZID=Europe/London:20301026T113000
DTSTAMP:20260420T233708
CREATED:20260304T145834Z
LAST-MODIFIED:20260304T145834Z
UID:10002382-1919239200-1919244600@www.naturehealthwest.org.uk
SUMMARY:ParkPlay at Merlin Park\, Portishead
DESCRIPTION:ParkPlay is a free play session\, every Saturday\, for everyone. Make friends\, have fun\, get moving! \nLook out for the ParkPlay flag\, we’ll be there – rain or shine.\nIf you can\, please register before you come along: https://park-play.com/register/ (you only need to this once)\nFind out more about ParkPlay here: https://www.betterhealthns.co.uk/information/parkplay/
URL:https://www.naturehealthwest.org.uk/community-event/parkplay-at-merlin-park-portishead/2030-10-26/
LOCATION:Merlin Park\, Merlin Park Playground\, Portishead\, BS20 8RW
ATTACH;FMTTYPE=image/jpeg:https://www.naturehealthwest.org.uk/wp-content/uploads/2025/09/pp-fb-1.jpg
ORGANIZER;CN="ParkPlay":MAILTO:getactive@n-somerset.gov.uk
END:VEVENT
BEGIN:VEVENT
DTSTART;TZID=Europe/London:20301102T100000
DTEND;TZID=Europe/London:20301102T113000
DTSTAMP:20260420T233708
CREATED:20260304T145834Z
LAST-MODIFIED:20260304T145834Z
UID:10002383-1919844000-1919849400@www.naturehealthwest.org.uk
SUMMARY:ParkPlay at Merlin Park\, Portishead
DESCRIPTION:ParkPlay is a free play session\, every Saturday\, for everyone. Make friends\, have fun\, get moving! \nLook out for the ParkPlay flag\, we’ll be there – rain or shine.\nIf you can\, please register before you come along: https://park-play.com/register/ (you only need to this once)\nFind out more about ParkPlay here: https://www.betterhealthns.co.uk/information/parkplay/
URL:https://www.naturehealthwest.org.uk/community-event/parkplay-at-merlin-park-portishead/2030-11-02/
LOCATION:Merlin Park\, Merlin Park Playground\, Portishead\, BS20 8RW
ATTACH;FMTTYPE=image/jpeg:https://www.naturehealthwest.org.uk/wp-content/uploads/2025/09/pp-fb-1.jpg
ORGANIZER;CN="ParkPlay":MAILTO:getactive@n-somerset.gov.uk
END:VEVENT
BEGIN:VEVENT
DTSTART;TZID=Europe/London:20301109T100000
DTEND;TZID=Europe/London:20301109T113000
DTSTAMP:20260420T233708
CREATED:20260304T145834Z
LAST-MODIFIED:20260304T145834Z
UID:10002384-1920448800-1920454200@www.naturehealthwest.org.uk
SUMMARY:ParkPlay at Merlin Park\, Portishead
DESCRIPTION:ParkPlay is a free play session\, every Saturday\, for everyone. Make friends\, have fun\, get moving! \nLook out for the ParkPlay flag\, we’ll be there – rain or shine.\nIf you can\, please register before you come along: https://park-play.com/register/ (you only need to this once)\nFind out more about ParkPlay here: https://www.betterhealthns.co.uk/information/parkplay/
URL:https://www.naturehealthwest.org.uk/community-event/parkplay-at-merlin-park-portishead/2030-11-09/
LOCATION:Merlin Park\, Merlin Park Playground\, Portishead\, BS20 8RW
ATTACH;FMTTYPE=image/jpeg:https://www.naturehealthwest.org.uk/wp-content/uploads/2025/09/pp-fb-1.jpg
ORGANIZER;CN="ParkPlay":MAILTO:getactive@n-somerset.gov.uk
END:VEVENT
BEGIN:VEVENT
DTSTART;TZID=Europe/London:20301116T100000
DTEND;TZID=Europe/London:20301116T113000
DTSTAMP:20260420T233708
CREATED:20260304T145834Z
LAST-MODIFIED:20260304T145834Z
UID:10002385-1921053600-1921059000@www.naturehealthwest.org.uk
SUMMARY:ParkPlay at Merlin Park\, Portishead
DESCRIPTION:ParkPlay is a free play session\, every Saturday\, for everyone. Make friends\, have fun\, get moving! \nLook out for the ParkPlay flag\, we’ll be there – rain or shine.\nIf you can\, please register before you come along: https://park-play.com/register/ (you only need to this once)\nFind out more about ParkPlay here: https://www.betterhealthns.co.uk/information/parkplay/
URL:https://www.naturehealthwest.org.uk/community-event/parkplay-at-merlin-park-portishead/2030-11-16/
LOCATION:Merlin Park\, Merlin Park Playground\, Portishead\, BS20 8RW
ATTACH;FMTTYPE=image/jpeg:https://www.naturehealthwest.org.uk/wp-content/uploads/2025/09/pp-fb-1.jpg
ORGANIZER;CN="ParkPlay":MAILTO:getactive@n-somerset.gov.uk
END:VEVENT
BEGIN:VEVENT
DTSTART;TZID=Europe/London:20301123T100000
DTEND;TZID=Europe/London:20301123T113000
DTSTAMP:20260420T233708
CREATED:20260304T145834Z
LAST-MODIFIED:20260304T145834Z
UID:10002386-1921658400-1921663800@www.naturehealthwest.org.uk
SUMMARY:ParkPlay at Merlin Park\, Portishead
DESCRIPTION:ParkPlay is a free play session\, every Saturday\, for everyone. Make friends\, have fun\, get moving! \nLook out for the ParkPlay flag\, we’ll be there – rain or shine.\nIf you can\, please register before you come along: https://park-play.com/register/ (you only need to this once)\nFind out more about ParkPlay here: https://www.betterhealthns.co.uk/information/parkplay/
URL:https://www.naturehealthwest.org.uk/community-event/parkplay-at-merlin-park-portishead/2030-11-23/
LOCATION:Merlin Park\, Merlin Park Playground\, Portishead\, BS20 8RW
ATTACH;FMTTYPE=image/jpeg:https://www.naturehealthwest.org.uk/wp-content/uploads/2025/09/pp-fb-1.jpg
ORGANIZER;CN="ParkPlay":MAILTO:getactive@n-somerset.gov.uk
END:VEVENT
BEGIN:VEVENT
DTSTART;TZID=Europe/London:20301130T100000
DTEND;TZID=Europe/London:20301130T113000
DTSTAMP:20260420T233708
CREATED:20260304T145834Z
LAST-MODIFIED:20260304T145834Z
UID:10002387-1922263200-1922268600@www.naturehealthwest.org.uk
SUMMARY:ParkPlay at Merlin Park\, Portishead
DESCRIPTION:ParkPlay is a free play session\, every Saturday\, for everyone. Make friends\, have fun\, get moving! \nLook out for the ParkPlay flag\, we’ll be there – rain or shine.\nIf you can\, please register before you come along: https://park-play.com/register/ (you only need to this once)\nFind out more about ParkPlay here: https://www.betterhealthns.co.uk/information/parkplay/
URL:https://www.naturehealthwest.org.uk/community-event/parkplay-at-merlin-park-portishead/2030-11-30/
LOCATION:Merlin Park\, Merlin Park Playground\, Portishead\, BS20 8RW
ATTACH;FMTTYPE=image/jpeg:https://www.naturehealthwest.org.uk/wp-content/uploads/2025/09/pp-fb-1.jpg
ORGANIZER;CN="ParkPlay":MAILTO:getactive@n-somerset.gov.uk
END:VEVENT
BEGIN:VEVENT
DTSTART;TZID=Europe/London:20301207T100000
DTEND;TZID=Europe/London:20301207T113000
DTSTAMP:20260420T233708
CREATED:20260304T145834Z
LAST-MODIFIED:20260304T145834Z
UID:10002388-1922868000-1922873400@www.naturehealthwest.org.uk
SUMMARY:ParkPlay at Merlin Park\, Portishead
DESCRIPTION:ParkPlay is a free play session\, every Saturday\, for everyone. Make friends\, have fun\, get moving! \nLook out for the ParkPlay flag\, we’ll be there – rain or shine.\nIf you can\, please register before you come along: https://park-play.com/register/ (you only need to this once)\nFind out more about ParkPlay here: https://www.betterhealthns.co.uk/information/parkplay/
URL:https://www.naturehealthwest.org.uk/community-event/parkplay-at-merlin-park-portishead/2030-12-07/
LOCATION:Merlin Park\, Merlin Park Playground\, Portishead\, BS20 8RW
ATTACH;FMTTYPE=image/jpeg:https://www.naturehealthwest.org.uk/wp-content/uploads/2025/09/pp-fb-1.jpg
ORGANIZER;CN="ParkPlay":MAILTO:getactive@n-somerset.gov.uk
END:VEVENT
BEGIN:VEVENT
DTSTART;TZID=Europe/London:20301214T100000
DTEND;TZID=Europe/London:20301214T113000
DTSTAMP:20260420T233708
CREATED:20260304T145834Z
LAST-MODIFIED:20260304T145834Z
UID:10002389-1923472800-1923478200@www.naturehealthwest.org.uk
SUMMARY:ParkPlay at Merlin Park\, Portishead
DESCRIPTION:ParkPlay is a free play session\, every Saturday\, for everyone. Make friends\, have fun\, get moving! \nLook out for the ParkPlay flag\, we’ll be there – rain or shine.\nIf you can\, please register before you come along: https://park-play.com/register/ (you only need to this once)\nFind out more about ParkPlay here: https://www.betterhealthns.co.uk/information/parkplay/
URL:https://www.naturehealthwest.org.uk/community-event/parkplay-at-merlin-park-portishead/2030-12-14/
LOCATION:Merlin Park\, Merlin Park Playground\, Portishead\, BS20 8RW
ATTACH;FMTTYPE=image/jpeg:https://www.naturehealthwest.org.uk/wp-content/uploads/2025/09/pp-fb-1.jpg
ORGANIZER;CN="ParkPlay":MAILTO:getactive@n-somerset.gov.uk
END:VEVENT
BEGIN:VEVENT
DTSTART;TZID=Europe/London:20301221T100000
DTEND;TZID=Europe/London:20301221T113000
DTSTAMP:20260420T233708
CREATED:20260304T145834Z
LAST-MODIFIED:20260304T145834Z
UID:10002390-1924077600-1924083000@www.naturehealthwest.org.uk
SUMMARY:ParkPlay at Merlin Park\, Portishead
DESCRIPTION:ParkPlay is a free play session\, every Saturday\, for everyone. Make friends\, have fun\, get moving! \nLook out for the ParkPlay flag\, we’ll be there – rain or shine.\nIf you can\, please register before you come along: https://park-play.com/register/ (you only need to this once)\nFind out more about ParkPlay here: https://www.betterhealthns.co.uk/information/parkplay/
URL:https://www.naturehealthwest.org.uk/community-event/parkplay-at-merlin-park-portishead/2030-12-21/
LOCATION:Merlin Park\, Merlin Park Playground\, Portishead\, BS20 8RW
ATTACH;FMTTYPE=image/jpeg:https://www.naturehealthwest.org.uk/wp-content/uploads/2025/09/pp-fb-1.jpg
ORGANIZER;CN="ParkPlay":MAILTO:getactive@n-somerset.gov.uk
END:VEVENT
BEGIN:VEVENT
DTSTART;TZID=Europe/London:20301228T100000
DTEND;TZID=Europe/London:20301228T113000
DTSTAMP:20260420T233708
CREATED:20260304T145834Z
LAST-MODIFIED:20260304T145834Z
UID:10002391-1924682400-1924687800@www.naturehealthwest.org.uk
SUMMARY:ParkPlay at Merlin Park\, Portishead
DESCRIPTION:ParkPlay is a free play session\, every Saturday\, for everyone. Make friends\, have fun\, get moving! \nLook out for the ParkPlay flag\, we’ll be there – rain or shine.\nIf you can\, please register before you come along: https://park-play.com/register/ (you only need to this once)\nFind out more about ParkPlay here: https://www.betterhealthns.co.uk/information/parkplay/
URL:https://www.naturehealthwest.org.uk/community-event/parkplay-at-merlin-park-portishead/2030-12-28/
LOCATION:Merlin Park\, Merlin Park Playground\, Portishead\, BS20 8RW
ATTACH;FMTTYPE=image/jpeg:https://www.naturehealthwest.org.uk/wp-content/uploads/2025/09/pp-fb-1.jpg
ORGANIZER;CN="ParkPlay":MAILTO:getactive@n-somerset.gov.uk
END:VEVENT
BEGIN:VEVENT
DTSTART;TZID=Europe/London:20310104T100000
DTEND;TZID=Europe/London:20310104T113000
DTSTAMP:20260420T233708
CREATED:20260304T145834Z
LAST-MODIFIED:20260304T145834Z
UID:10002392-1925287200-1925292600@www.naturehealthwest.org.uk
SUMMARY:ParkPlay at Merlin Park\, Portishead
DESCRIPTION:ParkPlay is a free play session\, every Saturday\, for everyone. Make friends\, have fun\, get moving! \nLook out for the ParkPlay flag\, we’ll be there – rain or shine.\nIf you can\, please register before you come along: https://park-play.com/register/ (you only need to this once)\nFind out more about ParkPlay here: https://www.betterhealthns.co.uk/information/parkplay/
URL:https://www.naturehealthwest.org.uk/community-event/parkplay-at-merlin-park-portishead/2031-01-04/
LOCATION:Merlin Park\, Merlin Park Playground\, Portishead\, BS20 8RW
ATTACH;FMTTYPE=image/jpeg:https://www.naturehealthwest.org.uk/wp-content/uploads/2025/09/pp-fb-1.jpg
ORGANIZER;CN="ParkPlay":MAILTO:getactive@n-somerset.gov.uk
END:VEVENT
BEGIN:VEVENT
DTSTART;TZID=Europe/London:20310111T100000
DTEND;TZID=Europe/London:20310111T113000
DTSTAMP:20260420T233708
CREATED:20260304T145834Z
LAST-MODIFIED:20260304T145834Z
UID:10002393-1925892000-1925897400@www.naturehealthwest.org.uk
SUMMARY:ParkPlay at Merlin Park\, Portishead
DESCRIPTION:ParkPlay is a free play session\, every Saturday\, for everyone. Make friends\, have fun\, get moving! \nLook out for the ParkPlay flag\, we’ll be there – rain or shine.\nIf you can\, please register before you come along: https://park-play.com/register/ (you only need to this once)\nFind out more about ParkPlay here: https://www.betterhealthns.co.uk/information/parkplay/
URL:https://www.naturehealthwest.org.uk/community-event/parkplay-at-merlin-park-portishead/2031-01-11/
LOCATION:Merlin Park\, Merlin Park Playground\, Portishead\, BS20 8RW
ATTACH;FMTTYPE=image/jpeg:https://www.naturehealthwest.org.uk/wp-content/uploads/2025/09/pp-fb-1.jpg
ORGANIZER;CN="ParkPlay":MAILTO:getactive@n-somerset.gov.uk
END:VEVENT
BEGIN:VEVENT
DTSTART;TZID=Europe/London:20310118T100000
DTEND;TZID=Europe/London:20310118T113000
DTSTAMP:20260420T233708
CREATED:20260304T145834Z
LAST-MODIFIED:20260304T145834Z
UID:10002394-1926496800-1926502200@www.naturehealthwest.org.uk
SUMMARY:ParkPlay at Merlin Park\, Portishead
DESCRIPTION:ParkPlay is a free play session\, every Saturday\, for everyone. Make friends\, have fun\, get moving! \nLook out for the ParkPlay flag\, we’ll be there – rain or shine.\nIf you can\, please register before you come along: https://park-play.com/register/ (you only need to this once)\nFind out more about ParkPlay here: https://www.betterhealthns.co.uk/information/parkplay/
URL:https://www.naturehealthwest.org.uk/community-event/parkplay-at-merlin-park-portishead/2031-01-18/
LOCATION:Merlin Park\, Merlin Park Playground\, Portishead\, BS20 8RW
ATTACH;FMTTYPE=image/jpeg:https://www.naturehealthwest.org.uk/wp-content/uploads/2025/09/pp-fb-1.jpg
ORGANIZER;CN="ParkPlay":MAILTO:getactive@n-somerset.gov.uk
END:VEVENT
BEGIN:VEVENT
DTSTART;TZID=Europe/London:20310125T100000
DTEND;TZID=Europe/London:20310125T113000
DTSTAMP:20260420T233708
CREATED:20260304T145834Z
LAST-MODIFIED:20260304T145834Z
UID:10002395-1927101600-1927107000@www.naturehealthwest.org.uk
SUMMARY:ParkPlay at Merlin Park\, Portishead
DESCRIPTION:ParkPlay is a free play session\, every Saturday\, for everyone. Make friends\, have fun\, get moving! \nLook out for the ParkPlay flag\, we’ll be there – rain or shine.\nIf you can\, please register before you come along: https://park-play.com/register/ (you only need to this once)\nFind out more about ParkPlay here: https://www.betterhealthns.co.uk/information/parkplay/
URL:https://www.naturehealthwest.org.uk/community-event/parkplay-at-merlin-park-portishead/2031-01-25/
LOCATION:Merlin Park\, Merlin Park Playground\, Portishead\, BS20 8RW
ATTACH;FMTTYPE=image/jpeg:https://www.naturehealthwest.org.uk/wp-content/uploads/2025/09/pp-fb-1.jpg
ORGANIZER;CN="ParkPlay":MAILTO:getactive@n-somerset.gov.uk
END:VEVENT
BEGIN:VEVENT
DTSTART;TZID=Europe/London:20310201T100000
DTEND;TZID=Europe/London:20310201T113000
DTSTAMP:20260420T233708
CREATED:20260304T145834Z
LAST-MODIFIED:20260304T145834Z
UID:10002396-1927706400-1927711800@www.naturehealthwest.org.uk
SUMMARY:ParkPlay at Merlin Park\, Portishead
DESCRIPTION:ParkPlay is a free play session\, every Saturday\, for everyone. Make friends\, have fun\, get moving! \nLook out for the ParkPlay flag\, we’ll be there – rain or shine.\nIf you can\, please register before you come along: https://park-play.com/register/ (you only need to this once)\nFind out more about ParkPlay here: https://www.betterhealthns.co.uk/information/parkplay/
URL:https://www.naturehealthwest.org.uk/community-event/parkplay-at-merlin-park-portishead/2031-02-01/
LOCATION:Merlin Park\, Merlin Park Playground\, Portishead\, BS20 8RW
ATTACH;FMTTYPE=image/jpeg:https://www.naturehealthwest.org.uk/wp-content/uploads/2025/09/pp-fb-1.jpg
ORGANIZER;CN="ParkPlay":MAILTO:getactive@n-somerset.gov.uk
END:VEVENT
BEGIN:VEVENT
DTSTART;TZID=Europe/London:20310208T100000
DTEND;TZID=Europe/London:20310208T113000
DTSTAMP:20260420T233708
CREATED:20260304T145834Z
LAST-MODIFIED:20260304T145834Z
UID:10002397-1928311200-1928316600@www.naturehealthwest.org.uk
SUMMARY:ParkPlay at Merlin Park\, Portishead
DESCRIPTION:ParkPlay is a free play session\, every Saturday\, for everyone. Make friends\, have fun\, get moving! \nLook out for the ParkPlay flag\, we’ll be there – rain or shine.\nIf you can\, please register before you come along: https://park-play.com/register/ (you only need to this once)\nFind out more about ParkPlay here: https://www.betterhealthns.co.uk/information/parkplay/
URL:https://www.naturehealthwest.org.uk/community-event/parkplay-at-merlin-park-portishead/2031-02-08/
LOCATION:Merlin Park\, Merlin Park Playground\, Portishead\, BS20 8RW
ATTACH;FMTTYPE=image/jpeg:https://www.naturehealthwest.org.uk/wp-content/uploads/2025/09/pp-fb-1.jpg
ORGANIZER;CN="ParkPlay":MAILTO:getactive@n-somerset.gov.uk
END:VEVENT
BEGIN:VEVENT
DTSTART;TZID=Europe/London:20310215T100000
DTEND;TZID=Europe/London:20310215T113000
DTSTAMP:20260420T233708
CREATED:20260304T145834Z
LAST-MODIFIED:20260304T145834Z
UID:10002398-1928916000-1928921400@www.naturehealthwest.org.uk
SUMMARY:ParkPlay at Merlin Park\, Portishead
DESCRIPTION:ParkPlay is a free play session\, every Saturday\, for everyone. Make friends\, have fun\, get moving! \nLook out for the ParkPlay flag\, we’ll be there – rain or shine.\nIf you can\, please register before you come along: https://park-play.com/register/ (you only need to this once)\nFind out more about ParkPlay here: https://www.betterhealthns.co.uk/information/parkplay/
URL:https://www.naturehealthwest.org.uk/community-event/parkplay-at-merlin-park-portishead/2031-02-15/
LOCATION:Merlin Park\, Merlin Park Playground\, Portishead\, BS20 8RW
ATTACH;FMTTYPE=image/jpeg:https://www.naturehealthwest.org.uk/wp-content/uploads/2025/09/pp-fb-1.jpg
ORGANIZER;CN="ParkPlay":MAILTO:getactive@n-somerset.gov.uk
END:VEVENT
BEGIN:VEVENT
DTSTART;TZID=Europe/London:20310222T100000
DTEND;TZID=Europe/London:20310222T113000
DTSTAMP:20260420T233708
CREATED:20260304T145834Z
LAST-MODIFIED:20260304T145834Z
UID:10002399-1929520800-1929526200@www.naturehealthwest.org.uk
SUMMARY:ParkPlay at Merlin Park\, Portishead
DESCRIPTION:ParkPlay is a free play session\, every Saturday\, for everyone. Make friends\, have fun\, get moving! \nLook out for the ParkPlay flag\, we’ll be there – rain or shine.\nIf you can\, please register before you come along: https://park-play.com/register/ (you only need to this once)\nFind out more about ParkPlay here: https://www.betterhealthns.co.uk/information/parkplay/
URL:https://www.naturehealthwest.org.uk/community-event/parkplay-at-merlin-park-portishead/2031-02-22/
LOCATION:Merlin Park\, Merlin Park Playground\, Portishead\, BS20 8RW
ATTACH;FMTTYPE=image/jpeg:https://www.naturehealthwest.org.uk/wp-content/uploads/2025/09/pp-fb-1.jpg
ORGANIZER;CN="ParkPlay":MAILTO:getactive@n-somerset.gov.uk
END:VEVENT
BEGIN:VEVENT
DTSTART;TZID=Europe/London:20310301T100000
DTEND;TZID=Europe/London:20310301T113000
DTSTAMP:20260420T233708
CREATED:20260304T145834Z
LAST-MODIFIED:20260304T145834Z
UID:10002400-1930125600-1930131000@www.naturehealthwest.org.uk
SUMMARY:ParkPlay at Merlin Park\, Portishead
DESCRIPTION:ParkPlay is a free play session\, every Saturday\, for everyone. Make friends\, have fun\, get moving! \nLook out for the ParkPlay flag\, we’ll be there – rain or shine.\nIf you can\, please register before you come along: https://park-play.com/register/ (you only need to this once)\nFind out more about ParkPlay here: https://www.betterhealthns.co.uk/information/parkplay/
URL:https://www.naturehealthwest.org.uk/community-event/parkplay-at-merlin-park-portishead/2031-03-01/
LOCATION:Merlin Park\, Merlin Park Playground\, Portishead\, BS20 8RW
ATTACH;FMTTYPE=image/jpeg:https://www.naturehealthwest.org.uk/wp-content/uploads/2025/09/pp-fb-1.jpg
ORGANIZER;CN="ParkPlay":MAILTO:getactive@n-somerset.gov.uk
END:VEVENT
END:VCALENDAR