BEGIN:VCALENDAR
VERSION:2.0
PRODID:-//Nature Health West - ECPv6.15.18//NONSGML v1.0//EN
CALSCALE:GREGORIAN
METHOD:PUBLISH
X-WR-CALNAME:Nature Health West
X-ORIGINAL-URL:https://www.naturehealthwest.org.uk
X-WR-CALDESC:Events for Nature Health West
REFRESH-INTERVAL;VALUE=DURATION:PT1H
X-Robots-Tag:noindex
X-PUBLISHED-TTL:PT1H
BEGIN:VTIMEZONE
TZID:Europe/London
BEGIN:DAYLIGHT
TZOFFSETFROM:+0000
TZOFFSETTO:+0100
TZNAME:BST
DTSTART:20250330T010000
END:DAYLIGHT
BEGIN:STANDARD
TZOFFSETFROM:+0100
TZOFFSETTO:+0000
TZNAME:GMT
DTSTART:20251026T010000
END:STANDARD
BEGIN:DAYLIGHT
TZOFFSETFROM:+0000
TZOFFSETTO:+0100
TZNAME:BST
DTSTART:20260329T010000
END:DAYLIGHT
BEGIN:STANDARD
TZOFFSETFROM:+0100
TZOFFSETTO:+0000
TZNAME:GMT
DTSTART:20261025T010000
END:STANDARD
BEGIN:DAYLIGHT
TZOFFSETFROM:+0000
TZOFFSETTO:+0100
TZNAME:BST
DTSTART:20270328T010000
END:DAYLIGHT
BEGIN:STANDARD
TZOFFSETFROM:+0100
TZOFFSETTO:+0000
TZNAME:GMT
DTSTART:20271031T010000
END:STANDARD
END:VTIMEZONE
BEGIN:VEVENT
DTSTART;TZID=Europe/London:20260422T103000
DTEND;TZID=Europe/London:20260422T123000
DTSTAMP:20260419T181807
CREATED:20260304T145551Z
LAST-MODIFIED:20260304T145600Z
UID:10001956-1776853800-1776861000@www.naturehealthwest.org.uk
SUMMARY:Soul Trail Wellbeing
DESCRIPTION:As Autumns cycle draws closer\, Soul Trail Wellbeing will be offering sessions to get us outside together.\nDetails in the poster above. \nCome and join us for this women’s wellness walk\n– Sista trails is a walking group programme for women (incl trans women)\, of the Global majority.
URL:https://www.naturehealthwest.org.uk/community-event/soul-trail-wellbeing-2/2026-04-22/
LOCATION:Snuff Mills
ATTACH;FMTTYPE=image/png:https://www.naturehealthwest.org.uk/wp-content/uploads/2025/09/HealingTrails-square.png
ORGANIZER;CN="Soul Trail Wellbeing":MAILTO:thenatureconsortia@outlook.com
END:VEVENT
BEGIN:VEVENT
DTSTART;TZID=Europe/London:20260429T103000
DTEND;TZID=Europe/London:20260429T123000
DTSTAMP:20260419T181807
CREATED:20260304T145551Z
LAST-MODIFIED:20260304T145600Z
UID:10001957-1777458600-1777465800@www.naturehealthwest.org.uk
SUMMARY:Soul Trail Wellbeing
DESCRIPTION:As Autumns cycle draws closer\, Soul Trail Wellbeing will be offering sessions to get us outside together.\nDetails in the poster above. \nCome and join us for this women’s wellness walk\n– Sista trails is a walking group programme for women (incl trans women)\, of the Global majority.
URL:https://www.naturehealthwest.org.uk/community-event/soul-trail-wellbeing-2/2026-04-29/
LOCATION:Snuff Mills
ATTACH;FMTTYPE=image/png:https://www.naturehealthwest.org.uk/wp-content/uploads/2025/09/HealingTrails-square.png
ORGANIZER;CN="Soul Trail Wellbeing":MAILTO:thenatureconsortia@outlook.com
END:VEVENT
BEGIN:VEVENT
DTSTART;TZID=Europe/London:20260506T103000
DTEND;TZID=Europe/London:20260506T123000
DTSTAMP:20260419T181807
CREATED:20260304T145551Z
LAST-MODIFIED:20260304T145600Z
UID:10001958-1778063400-1778070600@www.naturehealthwest.org.uk
SUMMARY:Soul Trail Wellbeing
DESCRIPTION:As Autumns cycle draws closer\, Soul Trail Wellbeing will be offering sessions to get us outside together.\nDetails in the poster above. \nCome and join us for this women’s wellness walk\n– Sista trails is a walking group programme for women (incl trans women)\, of the Global majority.
URL:https://www.naturehealthwest.org.uk/community-event/soul-trail-wellbeing-2/2026-05-06/
LOCATION:Snuff Mills
ATTACH;FMTTYPE=image/png:https://www.naturehealthwest.org.uk/wp-content/uploads/2025/09/HealingTrails-square.png
ORGANIZER;CN="Soul Trail Wellbeing":MAILTO:thenatureconsortia@outlook.com
END:VEVENT
BEGIN:VEVENT
DTSTART;TZID=Europe/London:20260513T103000
DTEND;TZID=Europe/London:20260513T123000
DTSTAMP:20260419T181807
CREATED:20260304T145551Z
LAST-MODIFIED:20260304T145600Z
UID:10001959-1778668200-1778675400@www.naturehealthwest.org.uk
SUMMARY:Soul Trail Wellbeing
DESCRIPTION:As Autumns cycle draws closer\, Soul Trail Wellbeing will be offering sessions to get us outside together.\nDetails in the poster above. \nCome and join us for this women’s wellness walk\n– Sista trails is a walking group programme for women (incl trans women)\, of the Global majority.
URL:https://www.naturehealthwest.org.uk/community-event/soul-trail-wellbeing-2/2026-05-13/
LOCATION:Snuff Mills
ATTACH;FMTTYPE=image/png:https://www.naturehealthwest.org.uk/wp-content/uploads/2025/09/HealingTrails-square.png
ORGANIZER;CN="Soul Trail Wellbeing":MAILTO:thenatureconsortia@outlook.com
END:VEVENT
BEGIN:VEVENT
DTSTART;TZID=Europe/London:20260520T103000
DTEND;TZID=Europe/London:20260520T123000
DTSTAMP:20260419T181807
CREATED:20260304T145551Z
LAST-MODIFIED:20260304T145600Z
UID:10001960-1779273000-1779280200@www.naturehealthwest.org.uk
SUMMARY:Soul Trail Wellbeing
DESCRIPTION:As Autumns cycle draws closer\, Soul Trail Wellbeing will be offering sessions to get us outside together.\nDetails in the poster above. \nCome and join us for this women’s wellness walk\n– Sista trails is a walking group programme for women (incl trans women)\, of the Global majority.
URL:https://www.naturehealthwest.org.uk/community-event/soul-trail-wellbeing-2/2026-05-20/
LOCATION:Snuff Mills
ATTACH;FMTTYPE=image/png:https://www.naturehealthwest.org.uk/wp-content/uploads/2025/09/HealingTrails-square.png
ORGANIZER;CN="Soul Trail Wellbeing":MAILTO:thenatureconsortia@outlook.com
END:VEVENT
BEGIN:VEVENT
DTSTART;TZID=Europe/London:20260527T103000
DTEND;TZID=Europe/London:20260527T123000
DTSTAMP:20260419T181807
CREATED:20260304T145551Z
LAST-MODIFIED:20260304T145600Z
UID:10001961-1779877800-1779885000@www.naturehealthwest.org.uk
SUMMARY:Soul Trail Wellbeing
DESCRIPTION:As Autumns cycle draws closer\, Soul Trail Wellbeing will be offering sessions to get us outside together.\nDetails in the poster above. \nCome and join us for this women’s wellness walk\n– Sista trails is a walking group programme for women (incl trans women)\, of the Global majority.
URL:https://www.naturehealthwest.org.uk/community-event/soul-trail-wellbeing-2/2026-05-27/
LOCATION:Snuff Mills
ATTACH;FMTTYPE=image/png:https://www.naturehealthwest.org.uk/wp-content/uploads/2025/09/HealingTrails-square.png
ORGANIZER;CN="Soul Trail Wellbeing":MAILTO:thenatureconsortia@outlook.com
END:VEVENT
BEGIN:VEVENT
DTSTART;TZID=Europe/London:20260603T103000
DTEND;TZID=Europe/London:20260603T123000
DTSTAMP:20260419T181807
CREATED:20260304T145551Z
LAST-MODIFIED:20260304T145600Z
UID:10001962-1780482600-1780489800@www.naturehealthwest.org.uk
SUMMARY:Soul Trail Wellbeing
DESCRIPTION:As Autumns cycle draws closer\, Soul Trail Wellbeing will be offering sessions to get us outside together.\nDetails in the poster above. \nCome and join us for this women’s wellness walk\n– Sista trails is a walking group programme for women (incl trans women)\, of the Global majority.
URL:https://www.naturehealthwest.org.uk/community-event/soul-trail-wellbeing-2/2026-06-03/
LOCATION:Snuff Mills
ATTACH;FMTTYPE=image/png:https://www.naturehealthwest.org.uk/wp-content/uploads/2025/09/HealingTrails-square.png
ORGANIZER;CN="Soul Trail Wellbeing":MAILTO:thenatureconsortia@outlook.com
END:VEVENT
BEGIN:VEVENT
DTSTART;TZID=Europe/London:20260610T103000
DTEND;TZID=Europe/London:20260610T123000
DTSTAMP:20260419T181807
CREATED:20260304T145551Z
LAST-MODIFIED:20260304T145600Z
UID:10001963-1781087400-1781094600@www.naturehealthwest.org.uk
SUMMARY:Soul Trail Wellbeing
DESCRIPTION:As Autumns cycle draws closer\, Soul Trail Wellbeing will be offering sessions to get us outside together.\nDetails in the poster above. \nCome and join us for this women’s wellness walk\n– Sista trails is a walking group programme for women (incl trans women)\, of the Global majority.
URL:https://www.naturehealthwest.org.uk/community-event/soul-trail-wellbeing-2/2026-06-10/
LOCATION:Snuff Mills
ATTACH;FMTTYPE=image/png:https://www.naturehealthwest.org.uk/wp-content/uploads/2025/09/HealingTrails-square.png
ORGANIZER;CN="Soul Trail Wellbeing":MAILTO:thenatureconsortia@outlook.com
END:VEVENT
BEGIN:VEVENT
DTSTART;TZID=Europe/London:20260617T103000
DTEND;TZID=Europe/London:20260617T123000
DTSTAMP:20260419T181807
CREATED:20260304T145551Z
LAST-MODIFIED:20260304T145600Z
UID:10001964-1781692200-1781699400@www.naturehealthwest.org.uk
SUMMARY:Soul Trail Wellbeing
DESCRIPTION:As Autumns cycle draws closer\, Soul Trail Wellbeing will be offering sessions to get us outside together.\nDetails in the poster above. \nCome and join us for this women’s wellness walk\n– Sista trails is a walking group programme for women (incl trans women)\, of the Global majority.
URL:https://www.naturehealthwest.org.uk/community-event/soul-trail-wellbeing-2/2026-06-17/
LOCATION:Snuff Mills
ATTACH;FMTTYPE=image/png:https://www.naturehealthwest.org.uk/wp-content/uploads/2025/09/HealingTrails-square.png
ORGANIZER;CN="Soul Trail Wellbeing":MAILTO:thenatureconsortia@outlook.com
END:VEVENT
BEGIN:VEVENT
DTSTART;TZID=Europe/London:20260624T103000
DTEND;TZID=Europe/London:20260624T123000
DTSTAMP:20260419T181807
CREATED:20260304T145551Z
LAST-MODIFIED:20260304T145600Z
UID:10001965-1782297000-1782304200@www.naturehealthwest.org.uk
SUMMARY:Soul Trail Wellbeing
DESCRIPTION:As Autumns cycle draws closer\, Soul Trail Wellbeing will be offering sessions to get us outside together.\nDetails in the poster above. \nCome and join us for this women’s wellness walk\n– Sista trails is a walking group programme for women (incl trans women)\, of the Global majority.
URL:https://www.naturehealthwest.org.uk/community-event/soul-trail-wellbeing-2/2026-06-24/
LOCATION:Snuff Mills
ATTACH;FMTTYPE=image/png:https://www.naturehealthwest.org.uk/wp-content/uploads/2025/09/HealingTrails-square.png
ORGANIZER;CN="Soul Trail Wellbeing":MAILTO:thenatureconsortia@outlook.com
END:VEVENT
BEGIN:VEVENT
DTSTART;TZID=Europe/London:20260701T103000
DTEND;TZID=Europe/London:20260701T123000
DTSTAMP:20260419T181807
CREATED:20260304T145551Z
LAST-MODIFIED:20260304T145600Z
UID:10001966-1782901800-1782909000@www.naturehealthwest.org.uk
SUMMARY:Soul Trail Wellbeing
DESCRIPTION:As Autumns cycle draws closer\, Soul Trail Wellbeing will be offering sessions to get us outside together.\nDetails in the poster above. \nCome and join us for this women’s wellness walk\n– Sista trails is a walking group programme for women (incl trans women)\, of the Global majority.
URL:https://www.naturehealthwest.org.uk/community-event/soul-trail-wellbeing-2/2026-07-01/
LOCATION:Snuff Mills
ATTACH;FMTTYPE=image/png:https://www.naturehealthwest.org.uk/wp-content/uploads/2025/09/HealingTrails-square.png
ORGANIZER;CN="Soul Trail Wellbeing":MAILTO:thenatureconsortia@outlook.com
END:VEVENT
BEGIN:VEVENT
DTSTART;TZID=Europe/London:20260708T103000
DTEND;TZID=Europe/London:20260708T123000
DTSTAMP:20260419T181807
CREATED:20260304T145551Z
LAST-MODIFIED:20260304T145600Z
UID:10001967-1783506600-1783513800@www.naturehealthwest.org.uk
SUMMARY:Soul Trail Wellbeing
DESCRIPTION:As Autumns cycle draws closer\, Soul Trail Wellbeing will be offering sessions to get us outside together.\nDetails in the poster above. \nCome and join us for this women’s wellness walk\n– Sista trails is a walking group programme for women (incl trans women)\, of the Global majority.
URL:https://www.naturehealthwest.org.uk/community-event/soul-trail-wellbeing-2/2026-07-08/
LOCATION:Snuff Mills
ATTACH;FMTTYPE=image/png:https://www.naturehealthwest.org.uk/wp-content/uploads/2025/09/HealingTrails-square.png
ORGANIZER;CN="Soul Trail Wellbeing":MAILTO:thenatureconsortia@outlook.com
END:VEVENT
BEGIN:VEVENT
DTSTART;TZID=Europe/London:20260715T103000
DTEND;TZID=Europe/London:20260715T123000
DTSTAMP:20260419T181807
CREATED:20260304T145551Z
LAST-MODIFIED:20260304T145600Z
UID:10001968-1784111400-1784118600@www.naturehealthwest.org.uk
SUMMARY:Soul Trail Wellbeing
DESCRIPTION:As Autumns cycle draws closer\, Soul Trail Wellbeing will be offering sessions to get us outside together.\nDetails in the poster above. \nCome and join us for this women’s wellness walk\n– Sista trails is a walking group programme for women (incl trans women)\, of the Global majority.
URL:https://www.naturehealthwest.org.uk/community-event/soul-trail-wellbeing-2/2026-07-15/
LOCATION:Snuff Mills
ATTACH;FMTTYPE=image/png:https://www.naturehealthwest.org.uk/wp-content/uploads/2025/09/HealingTrails-square.png
ORGANIZER;CN="Soul Trail Wellbeing":MAILTO:thenatureconsortia@outlook.com
END:VEVENT
BEGIN:VEVENT
DTSTART;TZID=Europe/London:20260722T103000
DTEND;TZID=Europe/London:20260722T123000
DTSTAMP:20260419T181807
CREATED:20260304T145551Z
LAST-MODIFIED:20260304T145600Z
UID:10001969-1784716200-1784723400@www.naturehealthwest.org.uk
SUMMARY:Soul Trail Wellbeing
DESCRIPTION:As Autumns cycle draws closer\, Soul Trail Wellbeing will be offering sessions to get us outside together.\nDetails in the poster above. \nCome and join us for this women’s wellness walk\n– Sista trails is a walking group programme for women (incl trans women)\, of the Global majority.
URL:https://www.naturehealthwest.org.uk/community-event/soul-trail-wellbeing-2/2026-07-22/
LOCATION:Snuff Mills
ATTACH;FMTTYPE=image/png:https://www.naturehealthwest.org.uk/wp-content/uploads/2025/09/HealingTrails-square.png
ORGANIZER;CN="Soul Trail Wellbeing":MAILTO:thenatureconsortia@outlook.com
END:VEVENT
BEGIN:VEVENT
DTSTART;TZID=Europe/London:20260729T103000
DTEND;TZID=Europe/London:20260729T123000
DTSTAMP:20260419T181807
CREATED:20260304T145551Z
LAST-MODIFIED:20260304T145600Z
UID:10001970-1785321000-1785328200@www.naturehealthwest.org.uk
SUMMARY:Soul Trail Wellbeing
DESCRIPTION:As Autumns cycle draws closer\, Soul Trail Wellbeing will be offering sessions to get us outside together.\nDetails in the poster above. \nCome and join us for this women’s wellness walk\n– Sista trails is a walking group programme for women (incl trans women)\, of the Global majority.
URL:https://www.naturehealthwest.org.uk/community-event/soul-trail-wellbeing-2/2026-07-29/
LOCATION:Snuff Mills
ATTACH;FMTTYPE=image/png:https://www.naturehealthwest.org.uk/wp-content/uploads/2025/09/HealingTrails-square.png
ORGANIZER;CN="Soul Trail Wellbeing":MAILTO:thenatureconsortia@outlook.com
END:VEVENT
BEGIN:VEVENT
DTSTART;TZID=Europe/London:20260805T103000
DTEND;TZID=Europe/London:20260805T123000
DTSTAMP:20260419T181807
CREATED:20260304T145551Z
LAST-MODIFIED:20260304T145600Z
UID:10001971-1785925800-1785933000@www.naturehealthwest.org.uk
SUMMARY:Soul Trail Wellbeing
DESCRIPTION:As Autumns cycle draws closer\, Soul Trail Wellbeing will be offering sessions to get us outside together.\nDetails in the poster above. \nCome and join us for this women’s wellness walk\n– Sista trails is a walking group programme for women (incl trans women)\, of the Global majority.
URL:https://www.naturehealthwest.org.uk/community-event/soul-trail-wellbeing-2/2026-08-05/
LOCATION:Snuff Mills
ATTACH;FMTTYPE=image/png:https://www.naturehealthwest.org.uk/wp-content/uploads/2025/09/HealingTrails-square.png
ORGANIZER;CN="Soul Trail Wellbeing":MAILTO:thenatureconsortia@outlook.com
END:VEVENT
BEGIN:VEVENT
DTSTART;TZID=Europe/London:20260812T103000
DTEND;TZID=Europe/London:20260812T123000
DTSTAMP:20260419T181807
CREATED:20260304T145551Z
LAST-MODIFIED:20260304T145600Z
UID:10001972-1786530600-1786537800@www.naturehealthwest.org.uk
SUMMARY:Soul Trail Wellbeing
DESCRIPTION:As Autumns cycle draws closer\, Soul Trail Wellbeing will be offering sessions to get us outside together.\nDetails in the poster above. \nCome and join us for this women’s wellness walk\n– Sista trails is a walking group programme for women (incl trans women)\, of the Global majority.
URL:https://www.naturehealthwest.org.uk/community-event/soul-trail-wellbeing-2/2026-08-12/
LOCATION:Snuff Mills
ATTACH;FMTTYPE=image/png:https://www.naturehealthwest.org.uk/wp-content/uploads/2025/09/HealingTrails-square.png
ORGANIZER;CN="Soul Trail Wellbeing":MAILTO:thenatureconsortia@outlook.com
END:VEVENT
BEGIN:VEVENT
DTSTART;TZID=Europe/London:20260819T103000
DTEND;TZID=Europe/London:20260819T123000
DTSTAMP:20260419T181807
CREATED:20260304T145551Z
LAST-MODIFIED:20260304T145600Z
UID:10001973-1787135400-1787142600@www.naturehealthwest.org.uk
SUMMARY:Soul Trail Wellbeing
DESCRIPTION:As Autumns cycle draws closer\, Soul Trail Wellbeing will be offering sessions to get us outside together.\nDetails in the poster above. \nCome and join us for this women’s wellness walk\n– Sista trails is a walking group programme for women (incl trans women)\, of the Global majority.
URL:https://www.naturehealthwest.org.uk/community-event/soul-trail-wellbeing-2/2026-08-19/
LOCATION:Snuff Mills
ATTACH;FMTTYPE=image/png:https://www.naturehealthwest.org.uk/wp-content/uploads/2025/09/HealingTrails-square.png
ORGANIZER;CN="Soul Trail Wellbeing":MAILTO:thenatureconsortia@outlook.com
END:VEVENT
BEGIN:VEVENT
DTSTART;TZID=Europe/London:20260826T103000
DTEND;TZID=Europe/London:20260826T123000
DTSTAMP:20260419T181807
CREATED:20260304T145551Z
LAST-MODIFIED:20260304T145600Z
UID:10001974-1787740200-1787747400@www.naturehealthwest.org.uk
SUMMARY:Soul Trail Wellbeing
DESCRIPTION:As Autumns cycle draws closer\, Soul Trail Wellbeing will be offering sessions to get us outside together.\nDetails in the poster above. \nCome and join us for this women’s wellness walk\n– Sista trails is a walking group programme for women (incl trans women)\, of the Global majority.
URL:https://www.naturehealthwest.org.uk/community-event/soul-trail-wellbeing-2/2026-08-26/
LOCATION:Snuff Mills
ATTACH;FMTTYPE=image/png:https://www.naturehealthwest.org.uk/wp-content/uploads/2025/09/HealingTrails-square.png
ORGANIZER;CN="Soul Trail Wellbeing":MAILTO:thenatureconsortia@outlook.com
END:VEVENT
BEGIN:VEVENT
DTSTART;TZID=Europe/London:20260902T103000
DTEND;TZID=Europe/London:20260902T123000
DTSTAMP:20260419T181807
CREATED:20260304T145551Z
LAST-MODIFIED:20260304T145600Z
UID:10001975-1788345000-1788352200@www.naturehealthwest.org.uk
SUMMARY:Soul Trail Wellbeing
DESCRIPTION:As Autumns cycle draws closer\, Soul Trail Wellbeing will be offering sessions to get us outside together.\nDetails in the poster above. \nCome and join us for this women’s wellness walk\n– Sista trails is a walking group programme for women (incl trans women)\, of the Global majority.
URL:https://www.naturehealthwest.org.uk/community-event/soul-trail-wellbeing-2/2026-09-02/
LOCATION:Snuff Mills
ATTACH;FMTTYPE=image/png:https://www.naturehealthwest.org.uk/wp-content/uploads/2025/09/HealingTrails-square.png
ORGANIZER;CN="Soul Trail Wellbeing":MAILTO:thenatureconsortia@outlook.com
END:VEVENT
BEGIN:VEVENT
DTSTART;TZID=Europe/London:20260909T103000
DTEND;TZID=Europe/London:20260909T123000
DTSTAMP:20260419T181807
CREATED:20260304T145551Z
LAST-MODIFIED:20260304T145600Z
UID:10001976-1788949800-1788957000@www.naturehealthwest.org.uk
SUMMARY:Soul Trail Wellbeing
DESCRIPTION:As Autumns cycle draws closer\, Soul Trail Wellbeing will be offering sessions to get us outside together.\nDetails in the poster above. \nCome and join us for this women’s wellness walk\n– Sista trails is a walking group programme for women (incl trans women)\, of the Global majority.
URL:https://www.naturehealthwest.org.uk/community-event/soul-trail-wellbeing-2/2026-09-09/
LOCATION:Snuff Mills
ATTACH;FMTTYPE=image/png:https://www.naturehealthwest.org.uk/wp-content/uploads/2025/09/HealingTrails-square.png
ORGANIZER;CN="Soul Trail Wellbeing":MAILTO:thenatureconsortia@outlook.com
END:VEVENT
BEGIN:VEVENT
DTSTART;TZID=Europe/London:20260916T103000
DTEND;TZID=Europe/London:20260916T123000
DTSTAMP:20260419T181807
CREATED:20260304T145551Z
LAST-MODIFIED:20260304T145600Z
UID:10001977-1789554600-1789561800@www.naturehealthwest.org.uk
SUMMARY:Soul Trail Wellbeing
DESCRIPTION:As Autumns cycle draws closer\, Soul Trail Wellbeing will be offering sessions to get us outside together.\nDetails in the poster above. \nCome and join us for this women’s wellness walk\n– Sista trails is a walking group programme for women (incl trans women)\, of the Global majority.
URL:https://www.naturehealthwest.org.uk/community-event/soul-trail-wellbeing-2/2026-09-16/
LOCATION:Snuff Mills
ATTACH;FMTTYPE=image/png:https://www.naturehealthwest.org.uk/wp-content/uploads/2025/09/HealingTrails-square.png
ORGANIZER;CN="Soul Trail Wellbeing":MAILTO:thenatureconsortia@outlook.com
END:VEVENT
BEGIN:VEVENT
DTSTART;TZID=Europe/London:20260923T103000
DTEND;TZID=Europe/London:20260923T123000
DTSTAMP:20260419T181807
CREATED:20260304T145551Z
LAST-MODIFIED:20260304T145600Z
UID:10001978-1790159400-1790166600@www.naturehealthwest.org.uk
SUMMARY:Soul Trail Wellbeing
DESCRIPTION:As Autumns cycle draws closer\, Soul Trail Wellbeing will be offering sessions to get us outside together.\nDetails in the poster above. \nCome and join us for this women’s wellness walk\n– Sista trails is a walking group programme for women (incl trans women)\, of the Global majority.
URL:https://www.naturehealthwest.org.uk/community-event/soul-trail-wellbeing-2/2026-09-23/
LOCATION:Snuff Mills
ATTACH;FMTTYPE=image/png:https://www.naturehealthwest.org.uk/wp-content/uploads/2025/09/HealingTrails-square.png
ORGANIZER;CN="Soul Trail Wellbeing":MAILTO:thenatureconsortia@outlook.com
END:VEVENT
BEGIN:VEVENT
DTSTART;TZID=Europe/London:20260930T103000
DTEND;TZID=Europe/London:20260930T123000
DTSTAMP:20260419T181807
CREATED:20260304T145551Z
LAST-MODIFIED:20260304T145600Z
UID:10001979-1790764200-1790771400@www.naturehealthwest.org.uk
SUMMARY:Soul Trail Wellbeing
DESCRIPTION:As Autumns cycle draws closer\, Soul Trail Wellbeing will be offering sessions to get us outside together.\nDetails in the poster above. \nCome and join us for this women’s wellness walk\n– Sista trails is a walking group programme for women (incl trans women)\, of the Global majority.
URL:https://www.naturehealthwest.org.uk/community-event/soul-trail-wellbeing-2/2026-09-30/
LOCATION:Snuff Mills
ATTACH;FMTTYPE=image/png:https://www.naturehealthwest.org.uk/wp-content/uploads/2025/09/HealingTrails-square.png
ORGANIZER;CN="Soul Trail Wellbeing":MAILTO:thenatureconsortia@outlook.com
END:VEVENT
BEGIN:VEVENT
DTSTART;TZID=Europe/London:20261007T103000
DTEND;TZID=Europe/London:20261007T123000
DTSTAMP:20260419T181807
CREATED:20260304T145551Z
LAST-MODIFIED:20260304T145600Z
UID:10001980-1791369000-1791376200@www.naturehealthwest.org.uk
SUMMARY:Soul Trail Wellbeing
DESCRIPTION:As Autumns cycle draws closer\, Soul Trail Wellbeing will be offering sessions to get us outside together.\nDetails in the poster above. \nCome and join us for this women’s wellness walk\n– Sista trails is a walking group programme for women (incl trans women)\, of the Global majority.
URL:https://www.naturehealthwest.org.uk/community-event/soul-trail-wellbeing-2/2026-10-07/
LOCATION:Snuff Mills
ATTACH;FMTTYPE=image/png:https://www.naturehealthwest.org.uk/wp-content/uploads/2025/09/HealingTrails-square.png
ORGANIZER;CN="Soul Trail Wellbeing":MAILTO:thenatureconsortia@outlook.com
END:VEVENT
BEGIN:VEVENT
DTSTART;TZID=Europe/London:20261014T103000
DTEND;TZID=Europe/London:20261014T123000
DTSTAMP:20260419T181807
CREATED:20260304T145551Z
LAST-MODIFIED:20260304T145600Z
UID:10001981-1791973800-1791981000@www.naturehealthwest.org.uk
SUMMARY:Soul Trail Wellbeing
DESCRIPTION:As Autumns cycle draws closer\, Soul Trail Wellbeing will be offering sessions to get us outside together.\nDetails in the poster above. \nCome and join us for this women’s wellness walk\n– Sista trails is a walking group programme for women (incl trans women)\, of the Global majority.
URL:https://www.naturehealthwest.org.uk/community-event/soul-trail-wellbeing-2/2026-10-14/
LOCATION:Snuff Mills
ATTACH;FMTTYPE=image/png:https://www.naturehealthwest.org.uk/wp-content/uploads/2025/09/HealingTrails-square.png
ORGANIZER;CN="Soul Trail Wellbeing":MAILTO:thenatureconsortia@outlook.com
END:VEVENT
BEGIN:VEVENT
DTSTART;TZID=Europe/London:20261021T103000
DTEND;TZID=Europe/London:20261021T123000
DTSTAMP:20260419T181807
CREATED:20260304T145551Z
LAST-MODIFIED:20260304T145600Z
UID:10001982-1792578600-1792585800@www.naturehealthwest.org.uk
SUMMARY:Soul Trail Wellbeing
DESCRIPTION:As Autumns cycle draws closer\, Soul Trail Wellbeing will be offering sessions to get us outside together.\nDetails in the poster above. \nCome and join us for this women’s wellness walk\n– Sista trails is a walking group programme for women (incl trans women)\, of the Global majority.
URL:https://www.naturehealthwest.org.uk/community-event/soul-trail-wellbeing-2/2026-10-21/
LOCATION:Snuff Mills
ATTACH;FMTTYPE=image/png:https://www.naturehealthwest.org.uk/wp-content/uploads/2025/09/HealingTrails-square.png
ORGANIZER;CN="Soul Trail Wellbeing":MAILTO:thenatureconsortia@outlook.com
END:VEVENT
BEGIN:VEVENT
DTSTART;TZID=Europe/London:20261028T103000
DTEND;TZID=Europe/London:20261028T123000
DTSTAMP:20260419T181807
CREATED:20260304T145551Z
LAST-MODIFIED:20260304T145600Z
UID:10001983-1793183400-1793190600@www.naturehealthwest.org.uk
SUMMARY:Soul Trail Wellbeing
DESCRIPTION:As Autumns cycle draws closer\, Soul Trail Wellbeing will be offering sessions to get us outside together.\nDetails in the poster above. \nCome and join us for this women’s wellness walk\n– Sista trails is a walking group programme for women (incl trans women)\, of the Global majority.
URL:https://www.naturehealthwest.org.uk/community-event/soul-trail-wellbeing-2/2026-10-28/
LOCATION:Snuff Mills
ATTACH;FMTTYPE=image/png:https://www.naturehealthwest.org.uk/wp-content/uploads/2025/09/HealingTrails-square.png
ORGANIZER;CN="Soul Trail Wellbeing":MAILTO:thenatureconsortia@outlook.com
END:VEVENT
END:VCALENDAR